Workbook

Sheet 2026
A1: Semaine | B1: Lundi | C1: Dimanche | D1: Mois | E1: Qui | F1: Statut | G1: Notes
A2: 1 | B2: 46020 | C2: 46026 | D2: janv.
A3: 2 | B3: 46027 | C3: 46033 | D3: janv.
A4: 3 | B4: 46034 | C4: 46040 | D4: janv.
A5: 4 | B5: 46041 | C5: 46047 | D5: janv.
A6: 5 | B6: 46048 | C6: 46054 | D6: janv.
A7: 6 | B7: 46055 | C7: 46061 | D7: févr.
A8: 7 | B8: 46062 | C8: 46068 | D8: févr.
A9: 8 | B9: 46069 | C9: 46075 | D9: févr.
A10: 9 | B10: 46076 | C10: 46082 | D10: févr.
A11: 10 | B11: 46083 | C11: 46089 | D11: mars
A12: 11 | B12: 46090 | C12: 46096 | D12: mars
A13: 12 | B13: 46097 | C13: 46103 | D13: mars
... A18: 17 | B18: 46132 | C18: 46138 | D18: avr.
A19: 18 | B19: 46139 | C19: 46145 | D19: avr. | F19: Travaux | G19: Peinture des volets
A20: 19 | B20: 46146 | C20: 46152 | D20: mai
A21: 20 | B21: 46153 | C21: 46159 | D21: mai
A22: 21 | B22: 46160 | C22: 46166 | D22: mai
A23: 22 | B23: 46167 | C23: 46173 | D23: mai
A24: 23 | B24: 46174 | C24: 46180 | D24: juin
A25: 24 | B25: 46181 | C25: 46187 | D25: juin
A26: 25 | B26: 46188 | C26: 46194 | D26: juin
A27: 26 | B27: 46195 | C27: 46201 | D27: juin
A28: 27 | B28: 46202 | C28: 46208 | D28: juil.
A29: 28 | B29: 46209 | C29: 46215 | D29: juil. | E29: Claire | F29: Occupé
A30: 29 | B30: 46216 | C30: 46222 | D30: juil. | E30: Claire | F30: Occupé
A31: 30 | B31: 46223 | C31: 46229 | D31: juil. | E31: Paul | F31: Occupé
A32: 31 | B32: 46230 | C32: 46236 | D32: juil. | E32: Paul | F32: Réservé, à confirmer
A33: 32 | B33: 46237 | C33: 46243 | D33: août | E33: Sophie | F33: Occupé
A34: 33 | B34: 46244 | C34: 46250 | D34: août | F34: Loué | G34: Location saisonnière
A35: 34 | B35: 46251 | C35: 46257 | D35: août
A36: 35 | B36: 46258 | C36: 46264 | D36: août
A37: 36 | B37: 46265 | C37: 46271 | D37: sept.
A38: 37 | B38: 46272 | C38: 46278 | D38: sept.
A39: 38 | B39: 46279 | C39: 46285 | D39: sept.
A40: 39 | B40: 46286 | C40: 46292 | D40: sept.
A41: 40 | B41: 46293 | C41: 46299 | D41: oct.
A42: 41 | B42: 46300 | C42: 46306 | D42: oct.
A43: 42 | B43: 46307 | C43: 46313 | D43: oct.
A44: 43 | B44: 46314 | C44: 46320 | D44: oct.
A45: 44 | B45: 46321 | C45: 46327 | D45: oct.
A46: 45 | B46: 46328 | C46: 46334 | D46: nov.
... A52: 51 | B52: 46370 | C52: 46376 | D52: déc.
A53: 52 | B53: 46377 | C53: 46383 | D53: déc. | E53: Julien | F53: Occupé | G53: Noël
A54: 53 | B54: 46384 | C54: 46390 | D54: déc.

Sheet 2027
A1: Semaine | B1: Lundi | C1: Dimanche | D1: Mois | E1: Qui | F1: Statut | G1: Notes
A2: 1 | B2: 46391 | C2: 46397 | D2: janv.
A3: 2 | B3: 46398 | C3: 46404 | D3: janv.
A4: 3 | B4: 46405 | C4: 46411 | D4: janv.
A5: 4 | B5: 46412 | C5: 46418 | D5: janv.
A6: 5 | B6: 46419 | C6: 46425 | D6: févr.
A7: 6 | B7: 46426 | C7: 46432 | D7: févr.
A8: 7 | B8: 46433 | C8: 46439 | D8: févr.
A9: 8 | B9: 46440 | C9: 46446 | D9: févr.
A10: 9 | B10: 46447 | C10: 46453 | D10: mars
A11: 10 | B11: 46454 | C11: 46460 | D11: mars
A12: 11 | B12: 46461 | C12: 46467 | D12: mars
A13: 12 | B13: 46468 | C13: 46474 | D13: mars
... A53: 52 | B53: 46748 | C53: 46754 | D53: déc.

Sheet Famille
A1: Membre de la famille | B1: Semaines 2026 | C1: Semaines 2027
A2: Claire | B2: =IF(A2="","",COUNTIF('2026'!$E$2:$E$54,A2)) | C2: =IF(A2="","",COUNTIF('2027'!$E$2:$E$53,A2))
A3: Paul | B3: =IF(A3="","",COUNTIF('2026'!$E$2:$E$54,A3)) | C3: =IF(A3="","",COUNTIF('2027'!$E$2:$E$53,A3))
A4: Sophie | B4: =IF(A4="","",COUNTIF('2026'!$E$2:$E$54,A4)) | C4: =IF(A4="","",COUNTIF('2027'!$E$2:$E$53,A4))
A5: Julien | B5: =IF(A5="","",COUNTIF('2026'!$E$2:$E$54,A5)) | C5: =IF(A5="","",COUNTIF('2027'!$E$2:$E$53,A5))
B6: =IF(A6="","",COUNTIF('2026'!$E$2:$E$54,A6)) | C6: =IF(A6="","",COUNTIF('2027'!$E$2:$E$53,A6))
B7: =IF(A7="","",COUNTIF('2026'!$E$2:$E$54,A7)) | C7: =IF(A7="","",COUNTIF('2027'!$E$2:$E$53,A7))
B8: =IF(A8="","",COUNTIF('2026'!$E$2:$E$54,A8)) | C8: =IF(A8="","",COUNTIF('2027'!$E$2:$E$53,A8))
B9: =IF(A9="","",COUNTIF('2026'!$E$2:$E$54,A9)) | C9: =IF(A9="","",COUNTIF('2027'!$E$2:$E$53,A9))
B10: =IF(A10="","",COUNTIF('2026'!$E$2:$E$54,A10)) | C10: =IF(A10="","",COUNTIF('2027'!$E$2:$E$53,A10))
B11: =IF(A11="","",COUNTIF('2026'!$E$2:$E$54,A11)) | C11: =IF(A11="","",COUNTIF('2027'!$E$2:$E$53,A11))
B12: =IF(A12="","",COUNTIF('2026'!$E$2:$E$54,A12)) | C12: =IF(A12="","",COUNTIF('2027'!$E$2:$E$53,A12))
B13: =IF(A13="","",COUNTIF('2026'!$E$2:$E$54,A13)) | C13: =IF(A13="","",COUNTIF('2027'!$E$2:$E$53,A13))
B14: =IF(A14="","",COUNTIF('2026'!$E$2:$E$54,A14)) | C14: =IF(A14="","",COUNTIF('2027'!$E$2:$E$53,A14))
B15: =IF(A15="","",COUNTIF('2026'!$E$2:$E$54,A15)) | C15: =IF(A15="","",COUNTIF('2027'!$E$2:$E$53,A15))
B16: =IF(A16="","",COUNTIF('2026'!$E$2:$E$54,A16)) | C16: =IF(A16="","",COUNTIF('2027'!$E$2:$E$53,A16))
B17: =IF(A17="","",COUNTIF('2026'!$E$2:$E$54,A17)) | C17: =IF(A17="","",COUNTIF('2027'!$E$2:$E$53,A17))
... B31: =IF(A31="","",COUNTIF('2026'!$E$2:$E$54,A31)) | C31: =IF(A31="","",COUNTIF('2027'!$E$2:$E$53,A31))

Sheet Statuts
A1: Statut | B1: Couleur
A2: Occupé
A3: Réservé, à confirmer
A4: Libre
A5: Loué
A6: Travaux

Sheet Mode d'emploi
A1: Planning de maison de famille
A2: Modèle gratuit proposé par Nos Semaines (https://nossemaines.fr)
A4: 1. Onglet « Famille » : remplacez les prénoms d'exemple par ceux de la famille.
A5: 2. Onglets 2026 et 2027 : pour chaque semaine, choisissez qui occupe la maison et le statut dans les listes.
A6: 3. La ligne prend la couleur du statut. L'onglet « Famille » compte les semaines de chacun.
A7: 4. Onglet « Statuts » : renommez les statuts si besoin, la couleur suit le rang dans la liste.
A8: 5. Les lignes de 2026 déjà remplies sont des exemples : effacez-les.
A10: Les semaines suivent la norme ISO 8601 : du lundi au dimanche, la semaine 1 contient le 4 janvier.
A11: Pour partager le planning en ligne avec toute la famille, sans échange de fichiers : https://nossemaines.fr
